BEGIN:VCALENDAR
VERSION:2.0
PRODID:-//eventon.com NONSGML v1.0//EN
CALSCALE:GREGORIAN
METHOD:PUBLISH
BEGIN:VEVENT
UID:69e600d0a1a20
DTSTAMP:20260420T103248Z
DTSTART:20250831T160000Z
DTEND:20250831T170000Z
LOCATION:Église Présentation de la Ste-Vierge 665 ave. de l'Église
SUMMARY:Messe vendredi 31 août 2025 (vert)
DESCRIPTION:Mme Claire Valley Alasco Parents et amis\nhttps://www.egliselap
 resentation.com/events/messe-vendredi-31-aout-2025-vert/
URL:https://www.egliselapresentation.com/events/messe-vendredi-31-aout-2025-vert/
END:VEVENT
END:VCALENDAR